BEGIN:VCALENDAR
VERSION:2.0
PRODID:-//eventon.com NONSGML v1.0//EN
CALSCALE:GREGORIAN
METHOD:PUBLISH
BEGIN:VEVENT
UID:69e5e9029993f
DTSTAMP:20260420T085114Z
DTSTART:20200626T220000Z
DTEND:20200627T215900Z
LOCATION:Stadtfest Marktplatz\,  07743 Jena
SUMMARY:Mandowar live | 66538 Neukirchen
DESCRIPTION:Auf dem traditionsreichen Stadtfest wird auch im Jahr 2020 wied
 er ausgiebig gefeiert. Das neue Gesamtkonzept basiert auf einer zielgruppen
 umfassenden Volksfest-Ausrichtung an drei Tagen\,  in der Entertainment\,  
 Kulinarik\,  Fun und Action in einem ausgewogenen Verhältnis kombiniert we
 rden. So entsteht ein Event-Konzept\,  das Tradition und Moderne vereint. 2
 020 werden an allen Tagen[..]\nhttps://www.mandowar.de/events/mandowar-live
 -06821-neukirchen/
URL:https://www.mandowar.de/events/mandowar-live-06821-neukirchen/
END:VEVENT
END:VCALENDAR