BEGIN:VCALENDAR
VERSION:2.0
PRODID:-//eventon.com NONSGML v1.0//EN
CALSCALE:GREGORIAN
METHOD:PUBLISH
BEGIN:VEVENT
UID:69e8e2ccd0288
DTSTAMP:20260422T150132Z
DTSTART:20210806T220000Z
DTEND:20210807T215900Z
LOCATION:
SUMMARY:MANDOWAR live | Paderborn
DESCRIPTION:Ihr stellt einen Parkplatz Ihr habt Strom Ihr sorgt für einen 
 Spendenhut mit mind. 100 Euro Ihr haltet die Corona-Regeln ein Ihr kommt au
 s dem Kreis Paderborn oder Höxter &#8230;und schon sind wir da!\nhttps://w
 ww.mandowar.de/events/mandowar-live-paderborn/
URL:https://www.mandowar.de/events/mandowar-live-paderborn/
END:VEVENT
END:VCALENDAR