BEGIN:VCALENDAR
VERSION:2.0
PRODID:-//eventon.com NONSGML v1.0//EN
CALSCALE:GREGORIAN
METHOD:PUBLISH
BEGIN:VEVENT
UID:69e606c2762c0
DTSTAMP:20260420T105810Z
DTSTART:20260424T080000Z
DTEND:20260424T100000Z
LOCATION:Logo Hamburg grindelallee 5
SUMMARY:MANDOWAR live | 20146 Hamburg
DESCRIPTION:MANDOWAR live | 20146 Hamburg\nhttps://www.mandowar.de/events/m
 andowar-live-20146-hamburg/
URL:https://www.mandowar.de/events/mandowar-live-20146-hamburg/
END:VEVENT
END:VCALENDAR