BEGIN:VCALENDAR
VERSION:2.0
PRODID:-//eventon.com NONSGML v1.0//EN
CALSCALE:GREGORIAN
METHOD:PUBLISH
BEGIN:VEVENT
UID:69e606c277d06
DTSTAMP:20260420T105810Z
DTSTART:20261120T190000Z
DTEND:20261120T224400Z
LOCATION:Stummsche Reithalle Saarbrücker Str. 21\,  66538 Neunkirchen
SUMMARY:MANDOWAR live | 66538 Neunkirchen
DESCRIPTION:MANDOWAR live | 66538 Neunkirchen\nhttps://www.mandowar.de/even
 ts/mandowar-live-66538-neunkirchen/
URL:https://www.mandowar.de/events/mandowar-live-66538-neunkirchen/
END:VEVENT
END:VCALENDAR