BEGIN:VCALENDAR
VERSION:2.0
PRODID:-//eventon.com NONSGML v1.0//EN
CALSCALE:GREGORIAN
METHOD:PUBLISH
BEGIN:VEVENT
UID:69e606a45d5e3
DTSTAMP:20260420T105740Z
DTSTART:20260425T180000Z
DTEND:20260425T210000Z
LOCATION:Ursprung Alter Markt 16 18055 Rostock
SUMMARY:MANDOWAR live | 18055 Rostock
DESCRIPTION:MANDOWAR live | 18055 Rostock\nhttps://www.mandowar.de/events/m
 andowar-live-18055-rostock/
URL:https://www.mandowar.de/events/mandowar-live-18055-rostock/
END:VEVENT
END:VCALENDAR