BEGIN:VCALENDAR
VERSION:2.0
PRODID:-//eventon.com NONSGML v1.0//EN
CALSCALE:GREGORIAN
METHOD:PUBLISH
BEGIN:VEVENT
UID:69e60675413c0
DTSTAMP:20260420T105653Z
DTSTART:20261205T190000Z
DTEND:20261205T210000Z
LOCATION:Old Hamburg Königstraße 67
SUMMARY:MANDOWAR live | 72108 Rottenburg am Neckar
DESCRIPTION:MANDOWAR live | 72108 Rottenburg am Neckar\nhttps://www.mandowa
 r.de/events/mandowar-live-72108-rottenburg-am-neckar/
URL:https://www.mandowar.de/events/mandowar-live-72108-rottenburg-am-neckar/
END:VEVENT
END:VCALENDAR