BEGIN:VCALENDAR
VERSION:2.0
PRODID:-//eventon.com NONSGML v1.0//EN
CALSCALE:GREGORIAN
METHOD:PUBLISH
BEGIN:VEVENT
UID:69e60664ee2fb
DTSTAMP:20260420T105636Z
DTSTART:20261211T180000Z
DTEND:20261211T200000Z
LOCATION:Nachtleben Kurt-Schumacher-Straße 45
SUMMARY:MANDOWAR live | 60313 Frankfurt am Main
DESCRIPTION:MANDOWAR live | 60313 Frankfurt am Main\nhttps://www.mandowar.d
 e/events/mandowar-live-60313-frankfurt-am-main-4/
URL:https://www.mandowar.de/events/mandowar-live-60313-frankfurt-am-main-4/
END:VEVENT
END:VCALENDAR