BEGIN:VCALENDAR
VERSION:2.0
PRODID:-//eventon.com NONSGML v1.0//EN
CALSCALE:GREGORIAN
METHOD:PUBLISH
BEGIN:VEVENT
UID:69e62d7b8416a
DTSTAMP:20260420T134323Z
DTSTART:20261204T190000Z
DTEND:20261204T220000Z
LOCATION:Blackbox Simmertal Hammerweg 1\,  55618 Simmertal
SUMMARY:MANDOWAR live | 55618 Simmertal
DESCRIPTION:MANDOWAR live | 55618 Simmertal\nhttps://www.mandowar.de/events
 /mandowar-live-55618-simmertal-2/
URL:https://www.mandowar.de/events/mandowar-live-55618-simmertal-2/
END:VEVENT
END:VCALENDAR