BEGIN:VCALENDAR
VERSION:2.0
PRODID:-//eventon.com NONSGML v1.0//EN
CALSCALE:GREGORIAN
METHOD:PUBLISH
BEGIN:VEVENT
UID:69e6060d7e3aa
DTSTAMP:20260420T105509Z
DTSTART:20261217T190000Z
DTEND:20261217T220000Z
LOCATION:Pitcher Rock n Roll Headquarter
SUMMARY:MANDOWAR live | 40215 Düsseldorf
DESCRIPTION:MANDOWAR live | 40215 Düsseldorf\nhttps://www.mandowar.de/even
 ts/mandowar-live-40215-duesseldorf-2/
URL:https://www.mandowar.de/events/mandowar-live-40215-duesseldorf-2/
END:VEVENT
END:VCALENDAR