BEGIN:VCALENDAR
VERSION:2.0
PRODID:-//eventon.com NONSGML v1.0//EN
CALSCALE:GREGORIAN
METHOD:PUBLISH
BEGIN:VEVENT
UID:69e632f92fff3
DTSTAMP:20260420T140649Z
DTSTART:20260430T180000Z
DTEND:20260430T210000Z
LOCATION:Warehouse Seven Tantalstrasse 7 63571 Gelnhausen
SUMMARY:MANDOWAR live | 63571 Gelnhausen
DESCRIPTION:MANDOWAR live | 63571 Gelnhausen\nhttps://www.mandowar.de/event
 s/mandowar-live-63571-gelnhausen/
URL:https://www.mandowar.de/events/mandowar-live-63571-gelnhausen/
END:VEVENT
END:VCALENDAR