BEGIN:VCALENDAR
VERSION:2.0
PRODID:-//eventon.com NONSGML v1.0//EN
CALSCALE:GREGORIAN
METHOD:PUBLISH
BEGIN:VEVENT
UID:69e630f2520b9
DTSTAMP:20260420T135810Z
DTSTART:20260524T183000Z
DTEND:20260524T210000Z
LOCATION:Schlossgarten Andernach Am Stadtgraben 11\,  56626 Andernach
SUMMARY:MANDOWAR live | 56626 Andernach
DESCRIPTION:MANDOWAR live | 56626 Andernach\nhttps://www.mandowar.de/events
 /mandowar-live-56626-andernach/
URL:https://www.mandowar.de/events/mandowar-live-56626-andernach/
END:VEVENT
END:VCALENDAR