BEGIN:VCALENDAR
VERSION:2.0
PRODID:-//eventon.com NONSGML v1.0//EN
CALSCALE:GREGORIAN
METHOD:PUBLISH
BEGIN:VEVENT
UID:69e62e743e1e1
DTSTAMP:20260420T134732Z
DTSTART:20260606T170000Z
DTEND:20260606T210000Z
LOCATION:Höpen Air Höpener Weg 21 29640 Schneverdingen
SUMMARY:MANDOWAR live | 29640 Schneverdingen
DESCRIPTION:MANDOWAR live | 29640 Schneverdingen\nhttps://www.mandowar.de/e
 vents/mandowar-live-29640-schneverdingen/
URL:https://www.mandowar.de/events/mandowar-live-29640-schneverdingen/
END:VEVENT
END:VCALENDAR