BEGIN:VCALENDAR
VERSION:2.0
PRODID:-//eventon.com NONSGML v1.0//EN
CALSCALE:GREGORIAN
METHOD:PUBLISH
BEGIN:VEVENT
UID:69e606408e9c2
DTSTAMP:20260420T105600Z
DTSTART:20260619T170000Z
DTEND:20260619T210000Z
LOCATION:Marktplatz Wernigerode Marktplatz\,  38855 Wernigerode
SUMMARY:MANDOWAR live | 38855 Wernigerode
DESCRIPTION:MANDOWAR live | 38855 Wernigerode\nhttps://www.mandowar.de/even
 ts/mandowar-live-38855-wernigerode/
URL:https://www.mandowar.de/events/mandowar-live-38855-wernigerode/
END:VEVENT
END:VCALENDAR