BEGIN:VCALENDAR
VERSION:2.0
PRODID:-//eventon.com NONSGML v1.0//EN
CALSCALE:GREGORIAN
METHOD:PUBLISH
BEGIN:VEVENT
UID:69e60640871e0
DTSTAMP:20260420T105600Z
DTSTART:20260711T180000Z
DTEND:20260711T210000Z
LOCATION:Dorfbrunnenfest Alte Rathausstraße\,  63454 Hanau
SUMMARY:MANDOWAR live | 63454 Hanau
DESCRIPTION:MANDOWAR live | 63454 Hanau\nhttps://www.mandowar.de/events/man
 dowar-live-63454-hanau/
URL:https://www.mandowar.de/events/mandowar-live-63454-hanau/
END:VEVENT
END:VCALENDAR