BEGIN:VCALENDAR
VERSION:2.0
PRODID:-//eventon.com NONSGML v1.0//EN
CALSCALE:GREGORIAN
METHOD:PUBLISH
BEGIN:VEVENT
UID:69e606500dde9
DTSTAMP:20260420T105616Z
DTSTART:20260808T180000Z
DTEND:20260808T210000Z
LOCATION:Rock den Lukas Wendohweg 1\,  27412 Tarmstedt
SUMMARY:MANDOWAR live | 27409 Tarmstedt
DESCRIPTION:MANDOWAR live | 27409 Tarmstedt\nhttps://www.mandowar.de/events
 /mandowar-live-27409-tarmstedt/
URL:https://www.mandowar.de/events/mandowar-live-27409-tarmstedt/
END:VEVENT
END:VCALENDAR