BEGIN:VCALENDAR
VERSION:2.0
PRODID:-//eventon.com NONSGML v1.0//EN
CALSCALE:GREGORIAN
METHOD:PUBLISH
BEGIN:VEVENT
UID:69e606a46335d
DTSTAMP:20260420T105740Z
DTSTART:20261031T190000Z
DTEND:20261031T220000Z
LOCATION:BAC Theater BAC- Theater In den Siepen 6 34454 Bad Arolsen
SUMMARY:MANDOWAR live | 34454 Bad Aarolsen
DESCRIPTION:MANDOWAR live | 34454 Bad Aarolsen\nhttps://www.mandowar.de/eve
 nts/mandowar-live-34454-bad-aarolsen/
URL:https://www.mandowar.de/events/mandowar-live-34454-bad-aarolsen/
END:VEVENT
END:VCALENDAR