BEGIN:VCALENDAR
VERSION:2.0
PRODID:-//eventon.com NONSGML v1.0//EN
CALSCALE:GREGORIAN
METHOD:PUBLISH
BEGIN:VEVENT
UID:69e605e4ac435
DTSTAMP:20260420T105428Z
DTSTART:20260904
DTEND:20260905
LOCATION:
SUMMARY:MANDOWAR live | 07381 Pößneck
DESCRIPTION:MANDOWAR live | 07381 Pößneck\nhttps://www.mandowar.de/events
 /mandowar-live-07381-poessneck/
URL:https://www.mandowar.de/events/mandowar-live-07381-poessneck/
END:VEVENT
END:VCALENDAR