BEGIN:VCALENDAR
VERSION:2.0
PRODID:-//eventon.com NONSGML v1.0//EN
CALSCALE:GREGORIAN
METHOD:PUBLISH
BEGIN:VEVENT
UID:69e605df63378
DTSTAMP:20260420T105423Z
DTSTART:20261113T190000Z
DTEND:20261113T220000Z
LOCATION:Das Rind Mainstr. 11 65428 Rüsselsheim
SUMMARY:MANDOWAR live | 65428 Rüsselsheim
DESCRIPTION:MANDOWAR live | 65428 Rüsselsheim\nhttps://www.mandowar.de/eve
 nts/mandowar-live-65428-ruesselsheim/
URL:https://www.mandowar.de/events/mandowar-live-65428-ruesselsheim/
END:VEVENT
END:VCALENDAR