BEGIN:VCALENDAR
VERSION:2.0
PRODID:-//eventon.com NONSGML v1.0//EN
CALSCALE:GREGORIAN
METHOD:PUBLISH
BEGIN:VEVENT
UID:69e606500e171
DTSTAMP:20260420T105616Z
DTSTART:20260627T160000Z
DTEND:20260627T210000Z
LOCATION:
SUMMARY:MANDOWAR live | 38259 Salzgitter
DESCRIPTION:MANDOWAR live | 38259 Salzgitter\nhttps://www.mandowar.de/event
 s/mandowar-live-38259-salzgitter-3/
URL:https://www.mandowar.de/events/mandowar-live-38259-salzgitter-3/
END:VEVENT
END:VCALENDAR