BEGIN:VCALENDAR
VERSION:2.0
PRODID:-//eventon.com NONSGML v1.0//EN
CALSCALE:GREGORIAN
METHOD:PUBLISH
BEGIN:VEVENT
UID:69e619fbb6849
DTSTAMP:20260420T122011Z
DTSTART:20260807
DTEND:20260808
LOCATION:
SUMMARY:MANDOWAR live | 21763 Neuenkirchen
DESCRIPTION:MANDOWAR live | 21763 Neuenkirchen\nhttps://www.mandowar.de/eve
 nts/mandowar-live-21763-neuenkirchen/
URL:https://www.mandowar.de/events/mandowar-live-21763-neuenkirchen/
END:VEVENT
END:VCALENDAR