BEGIN:VCALENDAR
VERSION:2.0
PRODID:-//eventon.com NONSGML v1.0//EN
CALSCALE:GREGORIAN
METHOD:PUBLISH
BEGIN:VEVENT
UID:69e606753f849
DTSTAMP:20260420T105653Z
DTSTART:20260829
DTEND:20260830
LOCATION:
SUMMARY:MANDOWAR live | 46535 Dinslaken
DESCRIPTION:MANDOWAR live | 46535 Dinslaken\nhttps://www.mandowar.de/events
 /mandowar-live-46535-dinslaken/
URL:https://www.mandowar.de/events/mandowar-live-46535-dinslaken/
END:VEVENT
END:VCALENDAR